Workbook

Sheet 양식
A4: ※ 위 신분과 사용목적을 선택해 주세요.
A5: 남북회담문서 열람신청서
A7: ※ 색상이 어두운 칸은 신청인이 작성하지 않습니다.
A8: 접수번호 | H8: 접수일
A9: 신 청 인 | B9: 성명(소속기재) | H9: 생년월일
B11: 주소(소재지) | H11: 전화번호(또는 휴대전화번호)
H13: 전자우편(e-mail) 주소
A14: 신청 내용 | B14: 공개번호 | C14: 권차명 | E14: 문서명 | J14: DVD 번호 | K14: 신청구분 | L14: 요청 페이지
B15: 9 | C15: =IF(B15=1,"",INDEX('남북회담문서 공개 목록'!$B$2:$F$375,$B15-1,1)) -> 남북대화 사료집 제2권 | E15: =IF(B15=1,"",INDEX('남북회담문서 공개 목록'!$B$2:$F$375,$B15-1,2)) -> 예비회담 진행 경과, 1971.9.20.~1972.8.11. | J15: =IF(B15=1,"",INDEX('남북회담문서 공개 목록'!$B$2:$F$375,$B15-1,4)) -> 2022-3 | N15: 열람
B16: 1 | C16: =IF(B16=1,"",INDEX('남북회담문서 공개 목록'!$B$2:$F$375,$B16-1,1)) | E16: =IF(B16=1,"",INDEX('남북회담문서 공개 목록'!$B$2:$F$375,$B16-1,2)) | J16: =IF(B16=1,"",INDEX('남북회담문서 공개 목록'!$B$2:$F$375,$B16-1,4)) | N16: 사본인쇄
B17: 368 | C17: =IF(B17=1,"",INDEX('남북회담문서 공개 목록'!$B$2:$F$375,$B17-1,1)) -> 남북대화 사료집 회의록편 제20권 | E17: =IF(B17=1,"",INDEX('남북회담문서 공개 목록'!$B$2:$F$375,$B17-1,2)) -> 남북핵통제공동위원회 제7차 위원접촉('92.10.29) | J17: =IF(B17=1,"",INDEX('남북회담문서 공개 목록'!$B$2:$F$375,$B17-1,4)) -> 2026-26 | N17: 파일복제
B18: 1 | C18: =IF(B18=1,"",INDEX('남북회담문서 공개 목록'!$B$2:$F$375,$B18-1,1)) | E18: =IF(B18=1,"",INDEX('남북회담문서 공개 목록'!$B$2:$F$375,$B18-1,2)) | J18: =IF(B18=1,"",INDEX('남북회담문서 공개 목록'!$B$2:$F$375,$B18-1,4))
B19: 1 | C19: =IF(B19=1,"",INDEX('남북회담문서 공개 목록'!$B$2:$F$375,$B19-1,1)) | E19: =IF(B19=1,"",INDEX('남북회담문서 공개 목록'!$B$2:$F$375,$B19-1,2)) | J19: =IF(B19=1,"",INDEX('남북회담문서 공개 목록'!$B$2:$F$375,$B19-1,4))
B20: 1 | C20: =IF(B20=1,"",INDEX('남북회담문서 공개 목록'!$B$2:$F$375,$B20-1,1)) | E20: =IF(B20=1,"",INDEX('남북회담문서 공개 목록'!$B$2:$F$375,$B20-1,2)) | J20: =IF(B20=1,"",INDEX('남북회담문서 공개 목록'!$B$2:$F$375,$B20-1,4))
B21: 1 | C21: =IF(B21=1,"",INDEX('남북회담문서 공개 목록'!$B$2:$F$375,$B21-1,1)) | E21: =IF(B21=1,"",INDEX('남북회담문서 공개 목록'!$B$2:$F$375,$B21-1,2)) | J21: =IF(B21=1,"",INDEX('남북회담문서 공개 목록'!$B$2:$F$375,$B21-1,4))
B22: 1 | C22: =IF(B22=1,"",INDEX('남북회담문서 공개 목록'!$B$2:$F$375,$B22-1,1)) | E22: =IF(B22=1,"",INDEX('남북회담문서 공개 목록'!$B$2:$F$375,$B22-1,2)) | J22: =IF(B22=1,"",INDEX('남북회담문서 공개 목록'!$B$2:$F$375,$B22-1,4))
B23: 1 | C23: =IF(B23=1,"",INDEX('남북회담문서 공개 목록'!$B$2:$F$375,$B23-1,1)) | E23: =IF(B23=1,"",INDEX('남북회담문서 공개 목록'!$B$2:$F$375,$B23-1,2)) | J23: =IF(B23=1,"",INDEX('남북회담문서 공개 목록'!$B$2:$F$375,$B23-1,4))
B24: 1 | C24: =IF(B24=1,"",INDEX('남북회담문서 공개 목록'!$B$2:$F$375,$B24-1,1)) | E24: =IF(B24=1,"",INDEX('남북회담문서 공개 목록'!$B$2:$F$375,$B24-1,2)) | J24: =IF(B24=1,"",INDEX('남북회담문서 공개 목록'!$B$2:$F$375,$B24-1,4))
A25: 수 수 료 | D25: 감면사유:
B26: ※ 「공공기관의 정보공개에 관한 법률 시행령」 제17조제3항에 따라 수수료 감면 대상에 해당하는 경우에만 적으며,
B27: 감면 사유를 증명할 수 있는 서류를 첨부해야 합니다.
A29: 위와 같이 남북회담문서의 열람을 신청합니다.
J31: 년 월 일
G33: 신청인: | L33: (서명 또는 인)
A35: 통 일 부 장 관 귀하
A37: 개인정보 수집ㆍ이용 동의서
A39: 통일부는 남북회담문서 열람ㆍ복사ㆍ복제에 필요한 개인정보의 수집ㆍ이용을 위하여 동의를 받습니다.
A40: (1) 개인정보의 수집ㆍ이용 목적 : 남북회담문서 열람ㆍ복사ㆍ복제에 필요한 신원 확인 및 업무 진행 시 연락
A41: (2) 수집하는 개인정보의 항목 : 성명, 소속, 생년월일, 연락처, 주소, 전자우편주소
A42: (3) 개인정보의 보유 및 이용기간 : 3년
A43: (4) 상기 개인정보 수집ㆍ이용에 대하여 동의를 거부할 수 있습니다. 동의 거부 시에는 자료 열람이 불가합니다.
D44: (위 내용에 동의합니다. | I44: )
A45: 본인은 개인정보 수집ㆍ이용에 대한 내용을 숙지하였으며, 이에 동의합니다.
G47: 동의자 : | L47: (서명 또는 인)
B374: 14

Sheet 남북회담문서 공개 목록
B1: 권차명 | C1: 문서명 | D1: 해당페이지 | E1: DVD번호 | F1: 생산년도
A2: 1 | B2: 남북대화 사료집 제2권 | C2: 인도적 남북대화 성립 사진 | D2: p13~p14 | E2: 2022-1 | F2: 1970.8.~1972.1.
A3: 2 | B3: 남북대화 사료집 제2권 | C3: 박대통령의 8.15평화통일 구상 선언, 1970.8.15. | D3: p17~p22 | E3: 2022-1 | F3: 1970.8.~1972.1.
A4: 3 | B4: 남북대화 사료집 제2권 | C4: 정부의 남북적십자회담 지원 노력, 1971.8.15.~1972.8.15. | D4: p23~p33 | E4: 2022-1 | F4: 1970.8.~1972.1.
A5: 4 | B5: 남북대화 사료집 제2권 | C5: 한적의 남북적십자회담 제의 및 북적의 수락, 1971.8.12.~1971.8.20. | D5: p37~p61 | E5: 2022-2 | F5: 1970.8.~1972.1.
A6: 5 | B6: 남북대화 사료집 제2권 | C6: 대한적십자사 회담사무국 창설, 1971.8.12.~1971.9.1. | D6: p63~p88 | E6: 2022-2 | F6: 1970.8.~1972.1.
A7: 6 | B7: 남북대화 사료집 제2권 | C7: 남북적십자 파견원 접촉(제1차~제5차), 1971.8.20.~1971.9.16. | D7: p89~p141 | E7: 2022-2 | F7: 1970.8.~1972.1.
A8: 7 | B8: 남북대화 사료집 제2권 | C8: 남북적십자 예비회담 사진 1 | D8: p145~p150 | E8: 2022-3 | F8: 1970.8.~1972.1.
A9: 8 | B9: 남북대화 사료집 제2권 | C9: 예비회담 진행 경과, 1971.9.20.~1972.8.11. | D9: p164~p171 | E9: 2022-3 | F9: 1970.8.~1972.1.
A10: 9 | B10: 남북대화 사료집 제2권 | C10: 제1차 예비회담, 1971.9.20. | D10: p172~p210 | E10: 2022-3 | F10: 1970.8.~1972.1.
A11: 10 | B11: 남북대화 사료집 제2권 | C11: 제2차 예비회담, 1971.9.29. | D11: p211~p260 | E11: 2022-3 | F11: 1970.8.~1972.1.
A12: 11 | B12: 남북대화 사료집 제2권 | C12: 제3차 예비회담, 1971.10.6. | D12: p261~p314 | E12: 2022-3 | F12: 1970.8.~1972.1.
A13: 12 | B13: 남북대화 사료집 제2권 | C13: 제4차 예비회담, 1971.10.13. | D13: p315~p373 | E13: 2022-3 | F13: 1970.8.~1972.1.
... A306: 305 | B306: 남북대화 사료집 제14권 | C306: 남북핵통제공동위원회 사진 및 목차 | D306: 11-28 | E306: 2026-25 | F306: 1991.12-1993.1
A307: 306 | B307: 남북대화 사료집 제14권 | C307: 핵문제 협의를 위한 제1차 대표접촉 | D307: 485-514 | E307: 2026-25 | F307: 1991.12
A308: 307 | B308: 남북대화 사료집 제14권 | C308: 핵문제 협의를 위한 제2차 대표접촉 | D308: 515-520 | E308: 2026-25 | F308: 1991.12
A309: 308 | B309: 남북대화 사료집 제14권 | C309: 핵문제 협의를 위한 제3차 대표접촉 | D309: 521-550 | E309: 2026-25 | F309: 1991.12
A310: 309 | B310: 남북대화 사료집 제14권 | C310: 남북핵통제공동위원회 구성·운영을 위한 제1차 대표접촉 | D310: 551-554 | E310: 2026-25 | F310: 1992. 2
A311: 310 | B311: 남북대화 사료집 제14권 | C311: 남북핵통제공동위원회 구성·운영을 위한 제2차 대표접촉 | D311: 555-564 | E311: 2026-25 | F311: 1992. 2
A312: 311 | B312: 남북대화 사료집 제14권 | C312: 남북핵통제공동위원회 구성·운영을 위한 제3차 대표접촉 | D312: 565-579 | E312: 2026-25 | F312: 1992. 3
A313: 312 | B313: 남북대화 사료집 제14권 | C313: 남북핵통제공동위원회 구성·운영을 위한 제4차 대표접촉 | D313: 580-587 | E313: 2026-25 | F313: 1992. 3
A314: 313 | B314: 남북대화 사료집 제14권 | C314: 남북핵통제공동위원회 구성·운영을 위한 제5차 대표접촉 | D314: 588-595 | E314: 2026-25 | F314: 1992. 3
A315: 314 | B315: 남북대화 사료집 제14권 | C315: 남북핵통제공동위원회 구성·운영을 위한 제6차 대표접촉 | D315: 596-600 | E315: 2026-25 | F315: 1992. 3
A316: 315 | B316: 남북대화 사료집 제14권 | C316: 남북핵통제공동위원회 구성·운영을 위한 제7차 대표접촉 | D316: 601-618 | E316: 2026-25 | F316: 1992. 3
A317: 316 | B317: 남북대화 사료집 제14권 | C317: 남북핵통제공동위원회 제1차 회의 | D317: 619-654 | E317: 2026-25 | F317: 1992. 3
A318: 317 | B318: 남북대화 사료집 제14권 | C318: 남북핵통제공동위원회 제2차 회의 | D318: 655-667 | E318: 2026-25 | F318: 1992. 4
A319: 318 | B319: 남북대화 사료집 제14권 | C319: 남북핵통제공동위원회 제3차 회의 | D319: 668-690 | E319: 2026-25 | F319: 1992. 4
A320: 319 | B320: 남북대화 사료집 제14권 | C320: 남북핵통제공동위원회 제4차 회의 | D320: 691-719 | E320: 2026-25 | F320: 1992. 5
A321: 320 | B321: 남북대화 사료집 제14권 | C321: 남북핵통제공동위원회 제1차 위원접촉 | D321: 720-731 | E321: 2026-25 | F321: 1992. 5
... A329: 328 | B329: 남북대화 사료집 제14권 | C329: 남북핵통제공동위원회 제5차 위원접촉 | D329: 855-863 | E329: 2026-25 | F329: 1992. 9
A330: 329 | B330: 남북대화 사료집 제14권 | C330: 남북핵통제공동위원회 제6차 위원접촉 | D330: 864-873 | E330: 2026-25 | F330: 1992.1
A331: 330 | B331: 남북대화 사료집 제14권 | C331: 남북핵통제공동위원회 제9차 회의 | D331: 874-887 | E331: 2026-25 | F331: 1992.1
A332: 331 | B332: 남북대화 사료집 제14권 | C332: 남북핵통제공동위원회 제7차 위원접촉 | D332: 888-895 | E332: 2026-25 | F332: 1992.1
A333: 332 | B333: 남북대화 사료집 제14권 | C333: 남북핵통제공동위원회 제10차 회의 | D333: 896-915 | E333: 2026-25 | F333: 1992.11
A334: 333 | B334: 남북대화 사료집 제14권 | C334: 남북핵통제공동위원회 제11차 회의 | D334: 916-925 | E334: 2026-25 | F334: 1992.11
A335: 334 | B335: 남북대화 사료집 제14권 | C335: 남북핵통제공동위원회 제12차 회의 | D335: 926-942 | E335: 2026-25 | F335: 1992.12
A336: 335 | B336: 남북대화 사료집 제14권 | C336: 남북핵통제공동위원회 제8차 위원접촉 | D336: 943-952 | E336: 2026-25 | F336: 1992.12
A337: 336 | B337: 남북대화 사료집 제14권 | C337: 남북핵통제공동위원회 제13차 회의 | D337: 953-963 | E337: 2026-25 | F337: 1992.12
A338: 337 | B338: 남북대화 사료집 제14권 | C338: 남북핵통제공동위원회 위원장접촉 | D338: 964-1008 | E338: 2026-25 | F338: 1993. 1
A339: 338 | B339: 남북대화 사료집 회의록편 제17권 | C339: 남북대화 사료집 회의록편 제17권 목차 | D339: 000a-0002 | E339: 2026-26
A340: 339 | B340: 남북대화 사료집 회의록편 제17권 | C340: 핵문제 협의를 위한 제1차 대표접촉('91.12.26) | D340: 1-86 | E340: 2026-26 | F340: 1991.12
A341: 340 | B341: 남북대화 사료집 회의록편 제17권 | C341: 핵문제 협의를 위한 제2차 대표접촉('91.12.28) | D341: 87-164 | E341: 2026-26 | F341: 1991.12
A342: 341 | B342: 남북대화 사료집 회의록편 제17권 | C342: 핵문제 협의를 위한 제3차 대표접촉('91.12.31) | D342: 165-284 | E342: 2026-26 | F342: 1991.12
A343: 342 | B343: 남북대화 사료집 회의록편 제17권 | C343: 남북핵통제공동위원회 구성·운영을 위한 제1차 대표접촉('92.2.19) | D343: 285-378 | E343: 2026-26 | F343: 1992. 2
A344: 343 | B344: 남북대화 사료집 회의록편 제17권 | C344: 남북핵통제공동위원회 구성·운영을 위한 제2차 대표접촉('92.2.27) | D344: 379-452 | E344: 2026-26 | F344: 1992. 2
A345: 344 | B345: 남북대화 사료집 회의록편 제17권 | C345: 남북핵통제공동위원회 구성·운영을 위한 제3차 대표접촉('92.3.3) | D345: 453-608 | E345: 2026-26 | F345: 1992. 3
A346: 345 | B346: 남북대화 사료집 회의록편 제17권 | C346: 남북핵통제공동위원회 구성·운영을 위한 제4차 대표접촉('92.3.4) | D346: 609-772 | E346: 2026-26 | F346: 1992. 3
A347: 346 | B347: 남북대화 사료집 회의록편 제18권 | C347: 남북대화 사료집 회의록편 제18권 목차 | D347: 000a-0002 | E347: 2026-26
A348: 347 | B348: 남북대화 사료집 회의록편 제18권 | C348: 남북핵통제공동위원회 구성·운영을 위한 제5차 대표접촉('92.3.6) | D348: 1-270 | E348: 2026-26 | F348: 1992. 3
A349: 348 | B349: 남북대화 사료집 회의록편 제18권 | C349: 남북핵통제공동위원회 구성·운영을 위한 제6차 대표접촉('92.3.10) | D349: 271-384 | E349: 2026-26 | F349: 1992. 3
A350: 349 | B350: 남북대화 사료집 회의록편 제18권 | C350: 남북핵통제공동위원회 구성·운영을 위한 제7차 대표접촉('92.3.14) | D350: 385-498 | E350: 2026-26 | F350: 1992. 3
A351: 350 | B351: 남북대화 사료집 회의록편 제18권 | C351: 남북핵통제공동위원회 제1차 회의('92.3.19) | D351: 501-582 | E351: 2026-26 | F351: 1992. 3
A352: 351 | B352: 남북대화 사료집 회의록편 제18권 | C352: 남북핵통제공동위원회 제2차 회의('92.4.1) | D352: 583-642 | E352: 2026-26 | F352: 1992. 4
A353: 352 | B353: 남북대화 사료집 회의록편 제18권 | C353: 남북핵통제공동위원회 제3차 회의('92.4.21) | D353: 643-778 | E353: 2026-26 | F353: 1992. 4
A354: 353 | B354: 남북대화 사료집 회의록편 제18권 | C354: 남북핵통제공동위원회 제4차 회의('92.5.12) | D354: 779-862 | E354: 2026-26 | F354: 1992. 5
A355: 354 | B355: 남북대화 사료집 회의록편 제19권 | C355: 남북대화 사료집 회의록편 제19권 목차 | D355: 000a-0002 | E355: 2026-26
A356: 355 | B356: 남북대화 사료집 회의록편 제19권 | C356: 남북핵통제공동위원회 제1차 위원접촉('92.5.15) | D356: 1-102 | E356: 2026-26 | F356: 1992. 5
A357: 356 | B357: 남북대화 사료집 회의록편 제19권 | C357: 남북핵통제공동위원회 제2차 위원접촉('92.5.20) | D357: 103-178 | E357: 2026-26 | F357: 1992. 5
A358: 357 | B358: 남북대화 사료집 회의록편 제19권 | C358: 남북핵통제공동위원회 제3차 위원접촉('92.5.23) | D358: 179-262 | E358: 2026-26 | F358: 1992. 5
A359: 358 | B359: 남북대화 사료집 회의록편 제19권 | C359: 남북핵통제공동위원회 제5차 회의('92.5.27) | D359: 263-386 | E359: 2026-26 | F359: 1992. 5
A360: 359 | B360: 남북대화 사료집 회의록편 제19권 | C360: 남북핵통제공동위원회 제6차 회의('92.6.30) | D360: 387-486 | E360: 2026-26 | F360: 1992. 6
A361: 360 | B361: 남북대화 사료집 회의록편 제19권 | C361: 남북핵통제공동위원회 제7차 회의('92.7.21) | D361: 487-600 | E361: 2026-26 | F361: 1992. 7
A362: 361 | B362: 남북대화 사료집 회의록편 제19권 | C362: 남북핵통제공동위원회 제8차 회의('92.8.31) | D362: 601-710 | E362: 2026-26 | F362: 1992. 8
A363: 362 | B363: 남북대화 사료집 회의록편 제19권 | C363: 남북핵통제공동위원회 제4차 위원접촉('92.9.19) | D363: 711-794 | E363: 2026-26 | F363: 1992. 9
A364: 363 | B364: 남북대화 사료집 회의록편 제19권 | C364: 남북핵통제공동위원회 제5차 위원접촉('92.9.30) | D364: 795-880 | E364: 2026-26 | F364: 1992. 9
A365: 364 | B365: 남북대화 사료집 회의록편 제20권 | C365: 남북대화 사료집 회의록편 제20권 목차 | D365: 000a-0002 | E365: 2026-26
A366: 365 | B366: 남북대화 사료집 회의록편 제20권 | C366: 남북핵통제공동위원회 제6차 위원접촉('92.10.14) | D366: 1-86 | E366: 2026-26 | F366: 1992.1
A367: 366 | B367: 남북대화 사료집 회의록편 제20권 | C367: 남북핵통제공동위원회 제9차 회의('92.10.22) | D367: 87-162 | E367: 2026-26 | F367: 1992.1
A368: 367 | B368: 남북대화 사료집 회의록편 제20권 | C368: 남북핵통제공동위원회 제7차 위원접촉('92.10.29) | D368: 163-242 | E368: 2026-26 | F368: 1992.1
A369: 368 | B369: 남북대화 사료집 회의록편 제20권 | C369: 남북핵통제공동위원회 제10차 회의('92.11.18) | D369: 243-328 | E369: 2026-26 | F369: 1992.11
A370: 369 | B370: 남북대화 사료집 회의록편 제20권 | C370: 남북핵통제공동위원회 제11차 회의('92.11.27) | D370: 329-392 | E370: 2026-26 | F370: 1992.11
A371: 370 | B371: 남북대화 사료집 회의록편 제20권 | C371: 남북핵통제공동위원회 제12차 회의('92.12.10) | D371: 393-490 | E371: 2026-26 | F371: 1992.12
A372: 371 | B372: 남북대화 사료집 회의록편 제20권 | C372: 남북핵통제공동위원회 제8차 위원접촉('92.12.14) | D372: 491-612 | E372: 2026-26 | F372: 1992.12
A373: 372 | B373: 남북대화 사료집 회의록편 제20권 | C373: 남북핵통제공동위원회 제13차 회의('92.12.17) | D373: 613-730 | E373: 2026-26 | F373: 1992.12
A374: 373 | B374: 남북대화 사료집 회의록편 제20권 | C374: 남북핵통제공동위원회 위원장접촉('93.1.25) | D374: 731-798 | E374: 2026-26 | F374: 1993. 1
A375: ~ | B375: Go on.. | C375: .. | E375: ..

Sheet Sheet1
